BEGIN:VCALENDAR
VERSION:2.0
PRODID:-//LEO Network//Training Calendar//EN
BEGIN:VEVENT
UID:event-1726@leo-network.com
DTSTAMP:20260424T183050Z
DTSTART:20230720T150000Z
DTEND:20230721T000000Z
SUMMARY:Veterans/LE Interaction - Intermediate (CA POST & STC)
DESCRIPTION:Law Enforcement Training
Hosted by: Secure Measures, LLC

View event details:
https://www.leo-network.com/event/veterans-le-interaction-intermediate-ca-post-stc-irvine-ca-1726/
LOCATION:Irvine, CA
URL:https://www.leo-network.com/event/veterans-le-interaction-intermediate-ca-post-stc-irvine-ca-1726/
END:VEVENT
END:VCALENDAR
