BEGIN:VCALENDAR
VERSION:2.0
PRODID:-//LEO Network//Training Calendar//EN
BEGIN:VEVENT
UID:event-1771@leo-network.com
DTSTAMP:20260422T144520Z
DTSTART:20230516T150000Z
DTEND:20230520T000000Z
SUMMARY:Verbal De-escalation Train The Trainer Program: Surviving Verbal Conflict®
DESCRIPTION:Law Enforcement Training
Hosted by: Dolan Consulting Group

View event details:
https://www.leo-network.com/event/verbal-de-escalation-train-the-trainer-program-surviving-verbal-conflict-grand-rapids-mi-1771/
LOCATION:Grand Rapids, MI
URL:https://www.leo-network.com/event/verbal-de-escalation-train-the-trainer-program-surviving-verbal-conflict-grand-rapids-mi-1771/
END:VEVENT
END:VCALENDAR
