BEGIN:VCALENDAR
VERSION:2.0
PRODID:-//LEO Network//Training Calendar//EN
BEGIN:VEVENT
UID:event-1790@leo-network.com
DTSTAMP:20260422T115623Z
DTSTART:20230522T150000Z
DTEND:20230523T000000Z
SUMMARY:Caught on Camera: LE Viral Video Survival
DESCRIPTION:Law Enforcement Training
Hosted by: J Harris Academy of Police Training

View event details:
https://www.leo-network.com/event/caught-on-camera-le-viral-video-survival-boynton-beach-fl-1790/
LOCATION:Boynton Beach, FL
URL:https://www.leo-network.com/event/caught-on-camera-le-viral-video-survival-boynton-beach-fl-1790/
END:VEVENT
END:VCALENDAR
