BEGIN:VCALENDAR
VERSION:2.0
PRODID:-//LEO Network//Training Calendar//EN
BEGIN:VEVENT
UID:event-1792@leo-network.com
DTSTAMP:20260421T210159Z
DTSTART:20230717T150000Z
DTEND:20230722T000000Z
SUMMARY:Connecticut Basic SRO Training Course
DESCRIPTION:Law Enforcement Training
Hosted by: Spector Criminal Justice Training Network, Inc.

View event details:
https://www.leo-network.com/event/connecticut-basic-sro-training-course-east-hartford-ct-1792/
LOCATION:East Hartford, CT
URL:https://www.leo-network.com/event/connecticut-basic-sro-training-course-east-hartford-ct-1792/
END:VEVENT
END:VCALENDAR
