BEGIN:VCALENDAR
VERSION:2.0
PRODID:-//LEO Network//Training Calendar//EN
BEGIN:VEVENT
UID:event-1796@leo-network.com
DTSTAMP:20260421T210235Z
DTSTART:20230612T150000Z
DTEND:20230617T000000Z
SUMMARY:First Line Supervision
DESCRIPTION:Law Enforcement Training
Hosted by: Spector Criminal Justice Training Network, Inc.

View event details:
https://www.leo-network.com/event/first-line-supervision-danbury-ct-1796/
LOCATION:Danbury, CT
URL:https://www.leo-network.com/event/first-line-supervision-danbury-ct-1796/
END:VEVENT
END:VCALENDAR
