BEGIN:VCALENDAR
VERSION:2.0
PRODID:-//LEO Network//Training Calendar//EN
BEGIN:VEVENT
UID:event-1839@leo-network.com
DTSTAMP:20260423T085005Z
DTSTART:20230515T150000Z
DTEND:20230516T000000Z
SUMMARY:Working Angles & Spaces Intro (WASP1)
DESCRIPTION:Law Enforcement Training
Hosted by: Lighthorse Tactical, LLC

View event details:
https://www.leo-network.com/event/working-angles-spaces-intro-wasp1-calera-al-1839/
LOCATION:Calera, AL
URL:https://www.leo-network.com/event/working-angles-spaces-intro-wasp1-calera-al-1839/
END:VEVENT
END:VCALENDAR
