BEGIN:VCALENDAR
VERSION:2.0
PRODID:-//LEO Network//Training Calendar//EN
BEGIN:VEVENT
UID:event-1861@leo-network.com
DTSTAMP:20260420T005540Z
DTSTART:20230512T150000Z
DTEND:20230513T000000Z
SUMMARY:Force Response: Tactics for Use of Force Encounters
DESCRIPTION:Law Enforcement Training
Hosted by: J Harris Academy of Police Training

View event details:
https://www.leo-network.com/event/force-response-tactics-for-use-of-force-encounters-hudson-county-nj-1861/
LOCATION:Hudson County, NJ
URL:https://www.leo-network.com/event/force-response-tactics-for-use-of-force-encounters-hudson-county-nj-1861/
END:VEVENT
END:VCALENDAR
