BEGIN:VCALENDAR
VERSION:2.0
PRODID:-//LEO Network//Training Calendar//EN
BEGIN:VEVENT
UID:event-1864@leo-network.com
DTSTAMP:20260423T140612Z
DTSTART:20230516T150000Z
DTEND:20230517T000000Z
SUMMARY:New Jersey: Legal Update Agency In-Service
DESCRIPTION:Law Enforcement Training
Hosted by: J Harris Academy of Police Training

View event details:
https://www.leo-network.com/event/new-jersey-legal-update-agency-in-service-vineland-nj-1864/
LOCATION:Vineland, NJ
URL:https://www.leo-network.com/event/new-jersey-legal-update-agency-in-service-vineland-nj-1864/
END:VEVENT
END:VCALENDAR
