BEGIN:VCALENDAR
VERSION:2.0
PRODID:-//LEO Network//Training Calendar//EN
BEGIN:VEVENT
UID:event-1865@leo-network.com
DTSTAMP:20260420T034351Z
DTSTART:20230517T150000Z
DTEND:20230518T000000Z
SUMMARY:New Jersey: Legal Update Agency In-Service
DESCRIPTION:Law Enforcement Training
Hosted by: J Harris Academy of Police Training

View event details:
https://www.leo-network.com/event/new-jersey-legal-update-agency-in-service-atlantic-city-nj-1865/
LOCATION:Atlantic City, NJ
URL:https://www.leo-network.com/event/new-jersey-legal-update-agency-in-service-atlantic-city-nj-1865/
END:VEVENT
END:VCALENDAR
