BEGIN:VCALENDAR
VERSION:2.0
PRODID:-//LEO Network//Training Calendar//EN
BEGIN:VEVENT
UID:event-1880@leo-network.com
DTSTAMP:20260422T205517Z
DTSTART:20231017T150000Z
DTEND:20231018T000000Z
SUMMARY:Narcotrafficker* Fundamentals of Interdiction 
DESCRIPTION:Law Enforcement Training
Hosted by: Dynamic Police Training

View event details:
https://www.leo-network.com/event/narcotrafficker-fundamentals-of-interdiction-burleson-tx-1880/
LOCATION:Burleson, TX
URL:https://www.leo-network.com/event/narcotrafficker-fundamentals-of-interdiction-burleson-tx-1880/
END:VEVENT
END:VCALENDAR
