BEGIN:VCALENDAR
VERSION:2.0
PRODID:-//LEO Network//Training Calendar//EN
BEGIN:VEVENT
UID:event-1891@leo-network.com
DTSTAMP:20260422T143847Z
DTSTART:20230624T150000Z
DTEND:20230625T000000Z
SUMMARY:Foundation Carbine
DESCRIPTION:Law Enforcement Training
Hosted by: MDFI Training

View event details:
https://www.leo-network.com/event/foundation-carbine-albion-mi-1891/
LOCATION:Albion, MI
URL:https://www.leo-network.com/event/foundation-carbine-albion-mi-1891/
END:VEVENT
END:VCALENDAR
