BEGIN:VCALENDAR
VERSION:2.0
PRODID:-//LEO Network//Training Calendar//EN
BEGIN:VEVENT
UID:event-1893@leo-network.com
DTSTAMP:20260422T144631Z
DTSTART:20230813T150000Z
DTEND:20230814T000000Z
SUMMARY:Foundation Carbine
DESCRIPTION:Law Enforcement Training
Hosted by: MDFI Training

View event details:
https://www.leo-network.com/event/foundation-carbine-albion-mi-1893/
LOCATION:Albion, MI
URL:https://www.leo-network.com/event/foundation-carbine-albion-mi-1893/
END:VEVENT
END:VCALENDAR
