BEGIN:VCALENDAR
VERSION:2.0
PRODID:-//LEO Network//Training Calendar//EN
BEGIN:VEVENT
UID:event-1894@leo-network.com
DTSTAMP:20260422T144641Z
DTSTART:20230924T150000Z
DTEND:20230925T000000Z
SUMMARY:Foundation Carbine
DESCRIPTION:Law Enforcement Training
Hosted by: MDFI Training

View event details:
https://www.leo-network.com/event/foundation-carbine-greenville-mi-1894/
LOCATION:Greenville, MI
URL:https://www.leo-network.com/event/foundation-carbine-greenville-mi-1894/
END:VEVENT
END:VCALENDAR
