BEGIN:VCALENDAR
VERSION:2.0
PRODID:-//LEO Network//Training Calendar//EN
BEGIN:VEVENT
UID:event-1895@leo-network.com
DTSTAMP:20260422T144536Z
DTSTART:20230604T150000Z
DTEND:20230605T000000Z
SUMMARY:Foundation Handgun
DESCRIPTION:Law Enforcement Training
Hosted by: MDFI Training

View event details:
https://www.leo-network.com/event/foundation-handgun-greenville-mi-1895/
LOCATION:Greenville, MI
URL:https://www.leo-network.com/event/foundation-handgun-greenville-mi-1895/
END:VEVENT
END:VCALENDAR
