BEGIN:VCALENDAR
VERSION:2.0
PRODID:-//LEO Network//Training Calendar//EN
BEGIN:VEVENT
UID:event-1898@leo-network.com
DTSTAMP:20260422T143913Z
DTSTART:20230716T150000Z
DTEND:20230717T000000Z
SUMMARY:Foundation Shotgun
DESCRIPTION:Law Enforcement Training
Hosted by: MDFI Training

View event details:
https://www.leo-network.com/event/foundation-shotgun-albion-mi-1898/
LOCATION:Albion, MI
URL:https://www.leo-network.com/event/foundation-shotgun-albion-mi-1898/
END:VEVENT
END:VCALENDAR
