BEGIN:VCALENDAR
VERSION:2.0
PRODID:-//LEO Network//Training Calendar//EN
BEGIN:VEVENT
UID:event-1899@leo-network.com
DTSTAMP:20260422T143847Z
DTSTART:20231014T150000Z
DTEND:20231015T000000Z
SUMMARY:Foundation Shotgun
DESCRIPTION:Law Enforcement Training
Hosted by: MDFI Training

View event details:
https://www.leo-network.com/event/foundation-shotgun-albion-mi-1899/
LOCATION:Albion, MI
URL:https://www.leo-network.com/event/foundation-shotgun-albion-mi-1899/
END:VEVENT
END:VCALENDAR
