BEGIN:VCALENDAR
VERSION:2.0
PRODID:-//LEO Network//Training Calendar//EN
BEGIN:VEVENT
UID:event-1900@leo-network.com
DTSTAMP:20260422T144448Z
DTSTART:20230922T150000Z
DTEND:20230923T000000Z
SUMMARY:Low Light Handgun
DESCRIPTION:Law Enforcement Training
Hosted by: MDFI Training

View event details:
https://www.leo-network.com/event/low-light-handgun-albion-mi-1900/
LOCATION:Albion, MI
URL:https://www.leo-network.com/event/low-light-handgun-albion-mi-1900/
END:VEVENT
END:VCALENDAR
