BEGIN:VCALENDAR
VERSION:2.0
PRODID:-//LEO Network//Training Calendar//EN
BEGIN:VEVENT
UID:event-1901@leo-network.com
DTSTAMP:20260422T144518Z
DTSTART:20230923T150000Z
DTEND:20230924T000000Z
SUMMARY:Low Light Long Gun
DESCRIPTION:Law Enforcement Training
Hosted by: MDFI Training

View event details:
https://www.leo-network.com/event/low-light-long-gun-albion-mi-1901/
LOCATION:Albion, MI
URL:https://www.leo-network.com/event/low-light-long-gun-albion-mi-1901/
END:VEVENT
END:VCALENDAR
