BEGIN:VCALENDAR
VERSION:2.0
PRODID:-//LEO Network//Training Calendar//EN
BEGIN:VEVENT
UID:event-1902@leo-network.com
DTSTAMP:20260422T144509Z
DTSTART:20230729T150000Z
DTEND:20230730T000000Z
SUMMARY:Handgun Cover and Movement
DESCRIPTION:Law Enforcement Training
Hosted by: MDFI Training

View event details:
https://www.leo-network.com/event/handgun-cover-and-movement-albion-mi-1902/
LOCATION:Albion, MI
URL:https://www.leo-network.com/event/handgun-cover-and-movement-albion-mi-1902/
END:VEVENT
END:VCALENDAR
