BEGIN:VCALENDAR
VERSION:2.0
PRODID:-//LEO Network//Training Calendar//EN
BEGIN:VEVENT
UID:event-1903@leo-network.com
DTSTAMP:20260422T144630Z
DTSTART:20230625T150000Z
DTEND:20230626T000000Z
SUMMARY:Long Gun Cover and Movement
DESCRIPTION:Law Enforcement Training
Hosted by: MDFI Training

View event details:
https://www.leo-network.com/event/long-gun-cover-and-movement-albion-mi-1903/
LOCATION:Albion, MI
URL:https://www.leo-network.com/event/long-gun-cover-and-movement-albion-mi-1903/
END:VEVENT
END:VCALENDAR
