BEGIN:VCALENDAR
VERSION:2.0
PRODID:-//LEO Network//Training Calendar//EN
BEGIN:VEVENT
UID:event-1906@leo-network.com
DTSTAMP:20260422T144519Z
DTSTART:20230910T150000Z
DTEND:20230911T000000Z
SUMMARY:You Suck! Its Not The Gun! 
DESCRIPTION:Law Enforcement Training
Hosted by: MDFI Training

View event details:
https://www.leo-network.com/event/you-suck-its-not-the-gun-greenville-mi-1906/
LOCATION:Greenville, MI
URL:https://www.leo-network.com/event/you-suck-its-not-the-gun-greenville-mi-1906/
END:VEVENT
END:VCALENDAR
