BEGIN:VCALENDAR
VERSION:2.0
PRODID:-//LEO Network//Training Calendar//EN
BEGIN:VEVENT
UID:event-1907@leo-network.com
DTSTAMP:20260422T143912Z
DTSTART:20231016T150000Z
DTEND:20231021T000000Z
SUMMARY:Marksmanship and Manipulation Firearms Instructor
DESCRIPTION:Law Enforcement Training
Hosted by: MDFI Training

View event details:
https://www.leo-network.com/event/marksmanship-and-manipulation-firearms-instructor-albion-mi-1907/
LOCATION:Albion, MI
URL:https://www.leo-network.com/event/marksmanship-and-manipulation-firearms-instructor-albion-mi-1907/
END:VEVENT
END:VCALENDAR
