BEGIN:VCALENDAR
VERSION:2.0
PRODID:-//LEO Network//Training Calendar//EN
BEGIN:VEVENT
UID:event-191@leo-network.com
DTSTAMP:20260422T102013Z
DTSTART:20230508T150000Z
DTEND:20230512T000000Z
SUMMARY:MGIA 2023 National Gang Conference 
DESCRIPTION:Law Enforcement Training
Hosted by: Training Provider

View event details:
https://www.leo-network.com/event/mgia-2023-national-gang-conference-south-bend-in-191/
LOCATION:South Bend, IN
URL:https://www.leo-network.com/event/mgia-2023-national-gang-conference-south-bend-in-191/
END:VEVENT
END:VCALENDAR
