BEGIN:VCALENDAR
VERSION:2.0
PRODID:-//LEO Network//Training Calendar//EN
BEGIN:VEVENT
UID:event-192@leo-network.com
DTSTAMP:20260422T172903Z
DTSTART:20221020T150000Z
DTEND:20221022T000000Z
SUMMARY:Proactive Patrol Officer Development
DESCRIPTION:Law Enforcement Training
Hosted by: Training Provider

View event details:
https://www.leo-network.com/event/proactive-patrol-officer-development-tahlequah-ok-192/
LOCATION:Tahlequah, OK
URL:https://www.leo-network.com/event/proactive-patrol-officer-development-tahlequah-ok-192/
END:VEVENT
END:VCALENDAR
