BEGIN:VCALENDAR
VERSION:2.0
PRODID:-//LEO Network//Training Calendar//EN
BEGIN:VEVENT
UID:event-1923@leo-network.com
DTSTAMP:20260422T143918Z
DTSTART:20230925T150000Z
DTEND:20230928T000000Z
SUMMARY:Overcoming Size Differences-Controlling Larger Combatants
DESCRIPTION:Law Enforcement Training
Hosted by: KFD Training &amp; Consultation, LLC

View event details:
https://www.leo-network.com/event/overcoming-size-differences-controlling-larger-combatants-burleigh-nd-1923/
LOCATION:Burleigh, ND
URL:https://www.leo-network.com/event/overcoming-size-differences-controlling-larger-combatants-burleigh-nd-1923/
END:VEVENT
END:VCALENDAR
