BEGIN:VCALENDAR
VERSION:2.0
PRODID:-//LEO Network//Training Calendar//EN
BEGIN:VEVENT
UID:event-1925@leo-network.com
DTSTAMP:20260421T112519Z
DTSTART:20230717T150000Z
DTEND:20230719T000000Z
SUMMARY:RDS Pistol Instructor
DESCRIPTION:Law Enforcement Training
Hosted by: Evolution Training Solutions

View event details:
https://www.leo-network.com/event/rds-pistol-instructor-fair-lawn-nj-1925/
LOCATION:Fair Lawn, NJ
URL:https://www.leo-network.com/event/rds-pistol-instructor-fair-lawn-nj-1925/
END:VEVENT
END:VCALENDAR
