BEGIN:VCALENDAR
VERSION:2.0
PRODID:-//LEO Network//Training Calendar//EN
BEGIN:VEVENT
UID:event-1926@leo-network.com
DTSTAMP:20260421T135636Z
DTSTART:20230731T150000Z
DTEND:20230702T000000Z
SUMMARY:RDS Pistol Instructor
DESCRIPTION:Law Enforcement Training
Hosted by: Evolution Training Solutions

View event details:
https://www.leo-network.com/event/rds-pistol-instructor-bucks-co-pa-1926/
LOCATION:Bucks Co., PA
URL:https://www.leo-network.com/event/rds-pistol-instructor-bucks-co-pa-1926/
END:VEVENT
END:VCALENDAR
