BEGIN:VCALENDAR
VERSION:2.0
PRODID:-//LEO Network//Training Calendar//EN
BEGIN:VEVENT
UID:event-1929@leo-network.com
DTSTAMP:20260421T112556Z
DTSTART:20230828T150000Z
DTEND:20230830T000000Z
SUMMARY:RDS Pistol Instructor
DESCRIPTION:Law Enforcement Training
Hosted by: Evolution Training Solutions

View event details:
https://www.leo-network.com/event/rds-pistol-instructor-genesee-co-ny-1929/
LOCATION:Genesee Co., NY
URL:https://www.leo-network.com/event/rds-pistol-instructor-genesee-co-ny-1929/
END:VEVENT
END:VCALENDAR
