BEGIN:VCALENDAR
VERSION:2.0
PRODID:-//LEO Network//Training Calendar//EN
BEGIN:VEVENT
UID:event-1937@leo-network.com
DTSTAMP:20260422T161450Z
DTSTART:20240209T160000Z
DTEND:20240210T010000Z
SUMMARY:IVORY TOWER
DESCRIPTION:Law Enforcement Training
Hosted by: Captain Tom Rizzo Presents Ivory Tower

View event details:
https://www.leo-network.com/event/ivory-tower-manchester-mo-1937/
LOCATION:Manchester, MO
URL:https://www.leo-network.com/event/ivory-tower-manchester-mo-1937/
END:VEVENT
END:VCALENDAR
