BEGIN:VCALENDAR
VERSION:2.0
PRODID:-//LEO Network//Training Calendar//EN
BEGIN:VEVENT
UID:event-1942@leo-network.com
DTSTAMP:20260422T202009Z
DTSTART:20231228T160000Z
DTEND:20231231T010000Z
SUMMARY:Cellular Technology, Records, and Analysis (CTRA)
DESCRIPTION:Law Enforcement Training
Hosted by: A.B.M. Intel

View event details:
https://www.leo-network.com/event/cellular-technology-records-and-analysis-ctra-austell-ga-1942/
LOCATION:Austell, GA
URL:https://www.leo-network.com/event/cellular-technology-records-and-analysis-ctra-austell-ga-1942/
END:VEVENT
END:VCALENDAR
