BEGIN:VCALENDAR
VERSION:2.0
PRODID:-//LEO Network//Training Calendar//EN
BEGIN:VEVENT
UID:event-1949@leo-network.com
DTSTAMP:20260419T221240Z
DTSTART:20230807T150000Z
DTEND:20230812T000000Z
SUMMARY:Advanced Undercover Techniques & Survival
DESCRIPTION:Law Enforcement Training
Hosted by: Undercover Officers Association

View event details:
https://www.leo-network.com/event/advanced-undercover-techniques-survival-st-paul-mn-1949/
LOCATION:St. Paul, MN
URL:https://www.leo-network.com/event/advanced-undercover-techniques-survival-st-paul-mn-1949/
END:VEVENT
END:VCALENDAR
