BEGIN:VCALENDAR
VERSION:2.0
PRODID:-//LEO Network//Training Calendar//EN
BEGIN:VEVENT
UID:event-1960@leo-network.com
DTSTAMP:20260419T223232Z
DTSTART:20230522T150000Z
DTEND:20230523T000000Z
SUMMARY:Pro-Active Patrol Tactics
DESCRIPTION:Law Enforcement Training
Hosted by: Street Cop Training

View event details:
https://www.leo-network.com/event/pro-active-patrol-tactics-hobart-in-1960/
LOCATION:Hobart, IN
URL:https://www.leo-network.com/event/pro-active-patrol-tactics-hobart-in-1960/
END:VEVENT
END:VCALENDAR
