BEGIN:VCALENDAR
VERSION:2.0
PRODID:-//LEO Network//Training Calendar//EN
BEGIN:VEVENT
UID:event-1979@leo-network.com
DTSTAMP:20260421T210101Z
DTSTART:20230724T150000Z
DTEND:20230726T000000Z
SUMMARY:Promoting Positive Youth Development-Tips for SRO\\\'s
DESCRIPTION:Law Enforcement Training
Hosted by: Spector Criminal Justice Training Network, Inc.

View event details:
https://www.leo-network.com/event/promoting-positive-youth-development-tips-for-sro-s-east-hartford-ct-1979/
LOCATION:East Hartford, CT
URL:https://www.leo-network.com/event/promoting-positive-youth-development-tips-for-sro-s-east-hartford-ct-1979/
END:VEVENT
END:VCALENDAR
