BEGIN:VCALENDAR
VERSION:2.0
PRODID:-//LEO Network//Training Calendar//EN
BEGIN:VEVENT
UID:event-1985@leo-network.com
DTSTAMP:20260421T140313Z
DTSTART:20230626T150000Z
DTEND:20230627T000000Z
SUMMARY:Deceptive Behaviors & Hidden Compartments
DESCRIPTION:Law Enforcement Training
Hosted by: Street Cop Training

View event details:
https://www.leo-network.com/event/deceptive-behaviors-hidden-compartments-daytona-beach-fl-1985/
LOCATION:Daytona Beach, FL
URL:https://www.leo-network.com/event/deceptive-behaviors-hidden-compartments-daytona-beach-fl-1985/
END:VEVENT
END:VCALENDAR
