BEGIN:VCALENDAR
VERSION:2.0
PRODID:-//LEO Network//Training Calendar//EN
BEGIN:VEVENT
UID:event-1996@leo-network.com
DTSTAMP:20260421T233459Z
DTSTART:20231120T160000Z
DTEND:20231121T010000Z
SUMMARY:Deceptive Behaviors & Hidden Compartments
DESCRIPTION:Law Enforcement Training
Hosted by: Street Cop Training

View event details:
https://www.leo-network.com/event/deceptive-behaviors-hidden-compartments-dfw-airport-tx-1996/
LOCATION:DFW Airport, TX
URL:https://www.leo-network.com/event/deceptive-behaviors-hidden-compartments-dfw-airport-tx-1996/
END:VEVENT
END:VCALENDAR
