BEGIN:VCALENDAR
VERSION:2.0
PRODID:-//LEO Network//Training Calendar//EN
BEGIN:VEVENT
UID:event-2000@leo-network.com
DTSTAMP:20260424T124350Z
DTSTART:20230831T150000Z
DTEND:20230901T000000Z
SUMMARY:Cartel Traps 
DESCRIPTION:Law Enforcement Training
Hosted by: Cartel Traps

View event details:
https://www.leo-network.com/event/cartel-traps-san-diego-ca-2000/
LOCATION:San Diego, CA
URL:https://www.leo-network.com/event/cartel-traps-san-diego-ca-2000/
END:VEVENT
END:VCALENDAR
