BEGIN:VCALENDAR
VERSION:2.0
PRODID:-//LEO Network//Training Calendar//EN
BEGIN:VEVENT
UID:event-2001@leo-network.com
DTSTAMP:20260422T113243Z
DTSTART:20231016T150000Z
DTEND:20231017T000000Z
SUMMARY:Cartel Traps 
DESCRIPTION:Law Enforcement Training
Hosted by: Cartel Traps

View event details:
https://www.leo-network.com/event/cartel-traps-shelbyville-ky-2001/
LOCATION:Shelbyville, KY
URL:https://www.leo-network.com/event/cartel-traps-shelbyville-ky-2001/
END:VEVENT
END:VCALENDAR
