BEGIN:VCALENDAR
VERSION:2.0
PRODID:-//LEO Network//Training Calendar//EN
BEGIN:VEVENT
UID:event-2021@leo-network.com
DTSTAMP:20260421T215539Z
DTSTART:20231004T150000Z
DTEND:20231005T000000Z
SUMMARY:Caught on Camera: LE Viral Video Survival
DESCRIPTION:Law Enforcement Training
Hosted by: J Harris Academy of Police Training

View event details:
https://www.leo-network.com/event/caught-on-camera-le-viral-video-survival-newtown-ct-2021/
LOCATION:Newtown, CT
URL:https://www.leo-network.com/event/caught-on-camera-le-viral-video-survival-newtown-ct-2021/
END:VEVENT
END:VCALENDAR
