BEGIN:VCALENDAR
VERSION:2.0
PRODID:-//LEO Network//Training Calendar//EN
BEGIN:VEVENT
UID:event-2042@leo-network.com
DTSTAMP:20260422T173103Z
DTSTART:20230613T150000Z
DTEND:20230616T000000Z
SUMMARY:Forensic Handwriting Analysis
DESCRIPTION:Law Enforcement Training
Hosted by: Cold Case Foundation

View event details:
https://www.leo-network.com/event/forensic-handwriting-analysis-ada-ok-2042/
LOCATION:Ada, OK
URL:https://www.leo-network.com/event/forensic-handwriting-analysis-ada-ok-2042/
END:VEVENT
END:VCALENDAR
