BEGIN:VCALENDAR
VERSION:2.0
PRODID:-//LEO Network//Training Calendar//EN
BEGIN:VEVENT
UID:event-2055@leo-network.com
DTSTAMP:20260421T063544Z
DTSTART:20230823T150000Z
DTEND:20230825T000000Z
SUMMARY:Supervising the FTO Program
DESCRIPTION:Law Enforcement Training
Hosted by: The Adaptive Way LLC

View event details:
https://www.leo-network.com/event/supervising-the-fto-program-thornton-co-2055/
LOCATION:Thornton, CO
URL:https://www.leo-network.com/event/supervising-the-fto-program-thornton-co-2055/
END:VEVENT
END:VCALENDAR
