BEGIN:VCALENDAR
VERSION:2.0
PRODID:-//LEO Network//Training Calendar//EN
BEGIN:VEVENT
UID:event-2057@leo-network.com
DTSTAMP:20260421T062819Z
DTSTART:20230821T150000Z
DTEND:20230823T000000Z
SUMMARY:The Adaptive FTO 
DESCRIPTION:Law Enforcement Training
Hosted by: The Adaptive Way LLC

View event details:
https://www.leo-network.com/event/the-adaptive-fto-thornton-co-2057/
LOCATION:Thornton, CO
URL:https://www.leo-network.com/event/the-adaptive-fto-thornton-co-2057/
END:VEVENT
END:VCALENDAR
