BEGIN:VCALENDAR
VERSION:2.0
PRODID:-//LEO Network//Training Calendar//EN
BEGIN:VEVENT
UID:event-2082@leo-network.com
DTSTAMP:20260423T114353Z
DTSTART:20231009T150000Z
DTEND:20231011T000000Z
SUMMARY:Realistic De-Escalation Instructor Course
DESCRIPTION:Law Enforcement Training
Hosted by: Force Science

View event details:
https://www.leo-network.com/event/realistic-de-escalation-instructor-course-greensboro-nc-2082/
LOCATION:Greensboro, NC
URL:https://www.leo-network.com/event/realistic-de-escalation-instructor-course-greensboro-nc-2082/
END:VEVENT
END:VCALENDAR
