BEGIN:VCALENDAR
VERSION:2.0
PRODID:-//LEO Network//Training Calendar//EN
BEGIN:VEVENT
UID:event-2122@leo-network.com
DTSTAMP:20260423T020621Z
DTSTART:20230609T150000Z
DTEND:20230610T000000Z
SUMMARY:Joining the Force: Entry Level Seminar
DESCRIPTION:Law Enforcement Training
Hosted by: J Harris Academy of Police Training

View event details:
https://www.leo-network.com/event/joining-the-force-entry-level-seminar-ocean-township-nj-2122/
LOCATION:Ocean Township, NJ
URL:https://www.leo-network.com/event/joining-the-force-entry-level-seminar-ocean-township-nj-2122/
END:VEVENT
END:VCALENDAR
