BEGIN:VCALENDAR
VERSION:2.0
PRODID:-//LEO Network//Training Calendar//EN
BEGIN:VEVENT
UID:event-2144@leo-network.com
DTSTAMP:20260423T114337Z
DTSTART:20230919T150000Z
DTEND:20230922T000000Z
SUMMARY:Master Instructor Development Program
DESCRIPTION:Law Enforcement Training
Hosted by: International Association of Law Enforcement Firearms Instructors

View event details:
https://www.leo-network.com/event/master-instructor-development-program-jackson-springs-nc-2144/
LOCATION:Jackson Springs, NC
URL:https://www.leo-network.com/event/master-instructor-development-program-jackson-springs-nc-2144/
END:VEVENT
END:VCALENDAR
