BEGIN:VCALENDAR
VERSION:2.0
PRODID:-//LEO Network//Training Calendar//EN
BEGIN:VEVENT
UID:event-2147@leo-network.com
DTSTAMP:20260423T114249Z
DTSTART:20231031T150000Z
DTEND:20231003T000000Z
SUMMARY:Master Instructor Development Program
DESCRIPTION:Law Enforcement Training
Hosted by: International Association of Law Enforcement Firearms Instructors

View event details:
https://www.leo-network.com/event/master-instructor-development-program-jackson-springs-nc-2147/
LOCATION:Jackson Springs, NC
URL:https://www.leo-network.com/event/master-instructor-development-program-jackson-springs-nc-2147/
END:VEVENT
END:VCALENDAR
