BEGIN:VCALENDAR
VERSION:2.0
PRODID:-//LEO Network//Training Calendar//EN
BEGIN:VEVENT
UID:event-2152@leo-network.com
DTSTAMP:20260424T170918Z
DTSTART:20231004T150000Z
DTEND:20231006T000000Z
SUMMARY:2-Day Peer Support Training
DESCRIPTION:Law Enforcement Training
Hosted by: Embassy Consulting Services, LLC

View event details:
https://www.leo-network.com/event/2-day-peer-support-training-anaheim-ca-2152/
LOCATION:Anaheim, CA
URL:https://www.leo-network.com/event/2-day-peer-support-training-anaheim-ca-2152/
END:VEVENT
END:VCALENDAR
