BEGIN:VCALENDAR
VERSION:2.0
PRODID:-//LEO Network//Training Calendar//EN
BEGIN:VEVENT
UID:event-2167@leo-network.com
DTSTAMP:20260422T155056Z
DTSTART:20231002T150000Z
DTEND:20231003T000000Z
SUMMARY:All Things K9
DESCRIPTION:Law Enforcement Training
Hosted by: Street Cop Training

View event details:
https://www.leo-network.com/event/all-things-k9-florence-ky-2167/
LOCATION:Florence, KY
URL:https://www.leo-network.com/event/all-things-k9-florence-ky-2167/
END:VEVENT
END:VCALENDAR
