BEGIN:VCALENDAR
VERSION:2.0
PRODID:-//LEO Network//Training Calendar//EN
BEGIN:VEVENT
UID:event-2173@leo-network.com
DTSTAMP:20260422T184712Z
DTSTART:20231128T160000Z
DTEND:20231129T010000Z
SUMMARY:Rookie to Retirement
DESCRIPTION:Law Enforcement Training
Hosted by: Street Cop Training

View event details:
https://www.leo-network.com/event/rookie-to-retirement-universal-city-tx-2173/
LOCATION:Universal City, TX
URL:https://www.leo-network.com/event/rookie-to-retirement-universal-city-tx-2173/
END:VEVENT
END:VCALENDAR
