BEGIN:VCALENDAR
VERSION:2.0
PRODID:-//LEO Network//Training Calendar//EN
BEGIN:VEVENT
UID:event-2177@leo-network.com
DTSTAMP:20260424T200855Z
DTSTART:20230922T150000Z
DTEND:20230923T000000Z
SUMMARY:California Case Law That All Cops Need To Know
DESCRIPTION:Law Enforcement Training
Hosted by: Street Cop Training

View event details:
https://www.leo-network.com/event/california-case-law-that-all-cops-need-to-know-fairfield-ca-2177/
LOCATION:Fairfield, CA
URL:https://www.leo-network.com/event/california-case-law-that-all-cops-need-to-know-fairfield-ca-2177/
END:VEVENT
END:VCALENDAR
