BEGIN:VCALENDAR
VERSION:2.0
PRODID:-//LEO Network//Training Calendar//EN
BEGIN:VEVENT
UID:event-2191@leo-network.com
DTSTAMP:20260423T050721Z
DTSTART:20230614T150000Z
DTEND:20230615T000000Z
SUMMARY:In-Service: Body Worn Camera: Tactics for Effective Use
DESCRIPTION:Law Enforcement Training
Hosted by: J Harris Academy of Police Training

View event details:
https://www.leo-network.com/event/in-service-body-worn-camera-tactics-for-effective-use-atlantic-city-nj-2191/
LOCATION:Atlantic City, NJ
URL:https://www.leo-network.com/event/in-service-body-worn-camera-tactics-for-effective-use-atlantic-city-nj-2191/
END:VEVENT
END:VCALENDAR
